{"text_format":"3","workbook":"xlsx","n_sheets":1,"sheets":["⑥講師派遣依頼書"],"not_rendered":{"images":1,"external_links":2,"defined_names":7},"read":"whole","date_system":"1900"}

{"sheet":"⑥講師派遣依頼書","index":0,"n_rows":39,"n_cols":16,"rows_kept":39,"merged":[[2,7,2,9],[3,3,3,9],[4,4,4,9],[5,3,5,9],[6,3,6,5],[6,7,6,9],[7,5,7,9],[20,4,20,5],[21,4,21,5],[21,6,21,9],[22,4,25,9],[27,6,27,9],[29,3,29,9],[30,4,30,5],[31,3,31,5],[32,3,32,5],[33,3,33,5],[34,3,34,5],[35,4,35,5]]}
[]
[null,{"$f":"[1]目次!D8","v":"令和8年度 ライフプランセミナー講師派遣依頼書"},{"$nulls":9},"【入力要領のご案内】"]
[null,1,"発 信 元",{"$nulls":3},"依頼日：","令和　　　年　　　月　　　日",{"$nulls":3},"➤年月日は「西暦/月/日」で入力いただくと和暦様式で変換されます"]
[null,null,"団 体 名",{"$nulls":8},"ご入力部分以外にはシートの保護をかけていますが、パスワード設定をしていませんので、"]
[null,null,"所 在 地","〒",{"$nulls":7},"必要に応じてシート保護の解除 [校閲] タブから [シート保護の解除] をしてご利用ください。"]
[]
[null,null,"担当部署",{"$nulls":3},"ＴＥＬ"]
[null,null,"担 当 者",null,"E-mail(FAX)"]
[null,null,"【お願い】","＊以下、セミナー開催内容予定について現時点「案」で結構ですので、可能な限りお知らせください。"]
[{"$nulls":3},"＊開催2か月前までに当書類をご提出ください。（共催・DVD・ZOOMで開催の場合も同様）",{"$nulls":7},"➤使用ガイドブックプルダウンリスト選択"]
[null,2,"開催日程","年月日（曜日）","協会講師\n開始時刻","協会講師\n終了時刻","対象年齢","使用\nガイドブック","参加人数 ","共催",null,"50歳代"]
[null,"①","R　　年　　月　　日（　　）",null,"：","：",{"$nulls":5},"30歳・40歳代"]
[null,"②","R　　年　　月　　日（　　）",null,"：","：",{"$nulls":5},"民間版"]
[null,"③","R　　年　　月　　日（　　）",null,"：","：",{"$nulls":5},"国家公務員"]
[null,"④","R　　年　　月　　日（　　）",null,"：","：",{"$nulls":5},"➤⑤以上は行を再表示や行を挿入して入力調整ください。"]
[null,"⑤","R　　年　　月　　日（　　）",null,"：","："]
[null,"⑥","R　　年　　月　　日（　　）",null,"：","："]
[{"$nulls":8},"➤「共催」開催回に　☑","↑",null,"➤「共催」扱いの開催日には☑をいれてください。"]
[null,3,"全体日程","　　開催要領・日程表（案）",null,"別添あり","別添なし",{"$nulls":4},"➤該当する項目□に✓をマーク"]
[]
[null,4,"分  　野","＊希望分野すべてに☑","講演に関する\n具体的な希望",null,"＊協会講師は現職講師を優先させていただきます。"]
[null,null,"　　ライフプラン総論",null,"ライブ(対面方式)",null,"DVD　　　　　　　　　ZOOM",{"$nulls":4},"➤該当する項目□に✓をマーク"]
[null,null,"　　生きがい　　 "]
[null,null,"　　家庭経済設計"]
[null,null,"　　定年引上げとその影響"]
[null,null,"　　その他"]
[]
[null,5,"視聴覚教材\n（DVD)","使用しない","使用する","タイトル",{"$nulls":5},{"$f":"[1]⑤共催申請書!I20","v":"◆視聴覚教材タイトル➤プルダウン選択"}]
[{"$nulls":3},"　　","貸出必要：＊☑により協会から発送お届けします。",{"$nulls":6},{"$f":"[1]⑤共催申請書!I21","v":"制作年度"},{"$f":"[1]⑤共催申請書!J21","v":"時間分"},{"$f":"[1]⑤共催申請書!K21","v":"区分"},{"$f":"[1]⑤共催申請書!L21","v":"タイトル"}]
[null,6,"会 場 名",{"$nulls":8},{"$f":"[1]⑤共催申請書!I22","v":2025},{"$f":"[1]⑤共催申請書!J22","v":33},{"$f":"[1]⑤共催申請書!K22","v":"生きがい"},{"$f":"[1]⑤共催申請書!L22","v":"定年後の生きがいが地域の力に"}]
[null,null,"所 在 地","〒",{"$nulls":7},{"$f":"[1]⑤共催申請書!I23","v":2024},{"$f":"[1]⑤共催申請書!J23","v":33},{"$f":"[1]⑤共催申請書!K23","v":"生きがい"},{"$f":"[1]⑤共催申請書!L23","v":"一歩踏み出したその先に"},{"$f":"[1]⑤共催申請書!M23","v":"私のブレイクスルー"}]
[{"$nulls":11},{"$f":"[1]⑤共催申請書!I24","v":2023},{"$f":"[1]⑤共催申請書!J24","v":35},{"$f":"[1]⑤共催申請書!K24","v":"生きがい"},{"$f":"[1]⑤共催申請書!L24","v":"いつまでも輝き続けて"},{"$f":"[1]⑤共催申請書!M24","v":"一人ひとりのネクストステージ"}]
[null,null,"TEL",{"$nulls":8},{"$f":"[1]⑤共催申請書!I25","v":2022},{"$f":"[1]⑤共催申請書!J25","v":36},{"$f":"[1]⑤共催申請書!K25","v":"家庭経済"},{"$f":"[1]⑤共催申請書!L25","v":"マイ・ライフプラン"},{"$f":"[1]⑤共催申請書!M25","v":"老後の不安よ、さようなら"}]
[null,null,"交通最寄駅",{"$nulls":8},{"$f":"[1]⑤共催申請書!I26","v":2020},{"$f":"[1]⑤共催申請書!J26","v":36},{"$f":"[1]⑤共催申請書!K26","v":"50歳代"},{"$f":"[1]⑤共催申請書!L26","v":"人生のネクストドア"}]
[null,null,"アクセス情報",{"$nulls":8},{"$f":"[1]⑤共催申請書!I27","v":2008},{"$f":"[1]⑤共催申請書!J27","v":27},{"$f":"[1]⑤共催申請書!K27","v":"50歳代"},{"$f":"[1]⑤共催申請書!L27","v":"妻のプログ"}]
[null,null,"最寄駅から","　　  徒歩     車　   バス　　　　　　    ","(バス停名上書)",{"$nulls":6},{"$f":"[1]⑤共催申請書!I28","v":2021},{"$f":"[1]⑤共催申請書!J28","v":30},{"$f":"[1]⑤共催申請書!K28","v":"40歳代"},{"$f":"[1]⑤共催申請書!L28","v":"明日へのステップアップ"}]
[null,null,"所要",null,"分",{"$nulls":6},{"$f":"[1]⑤共催申請書!I29","v":2010},{"$f":"[1]⑤共催申請書!J29","v":30},{"$f":"[1]⑤共催申請書!K29","v":"40歳代"},{"$f":"[1]⑤共催申請書!L29","v":"サンタが家にやってきた"}]
[{"$nulls":11},{"$f":"[1]⑤共催申請書!I30","v":2019},{"$f":"[1]⑤共催申請書!J30","v":36},{"$f":"[1]⑤共催申請書!K30","v":"30歳代"},{"$f":"[1]⑤共催申請書!L30","v":"未来へのアップデート"}]
[{"$nulls":11},{"$f":"[1]⑤共催申請書!I31","v":2009},{"$f":"[1]⑤共催申請書!J31","v":30},{"$f":"[1]⑤共催申請書!K31","v":"30歳代"},{"$f":"[1]⑤共催申請書!L31","v":"みんなのカで"}]